BEGIN:VCALENDAR
VERSION:2.0
PRODID:-//ChamberMaster//Event Calendar 2.0//EN
METHOD:PUBLISH
X-PUBLISHED-TTL:P3D
REFRESH-INTERVAL:P3D
CALSCALE:GREGORIAN
BEGIN:VEVENT
DTSTART:20220114T000000Z
DTEND:20220114T030000Z
X-MICROSOFT-CDO-ALLDAYEVENT:FALSE
SUMMARY:2022 - 118th Chamber SWLA Annual Banquet
DESCRIPTION:The 118th Annual Chamber SWLA Banquet will be held Thursday\, January 13th\, 2022 at 6 p.m. inside the Golden Nugget Casino Resort in Lake Charles.  (Tickets required.  Please make sure all attendees bring tickets for entry) \n\n\n\nPlease send list of attendees as soon as possible.\n\nMenu is below\, please send dietary restrictions as soon as possible.\n\n \n\nMediterranean Wedge Salad\n\nChampagne Dressing l Olive l Grape Tomato\n Filet of Beef\n\nGarlic Shrimp l Herb Potato Hash l Winter Vegetable \n\n Flourless White Chocolate Brownie\n\nGolden Berry Pearls l Hibiscus Raspberry\n\n\n\n\n\n\n\n\n\nIf you haven't already\, please send in the names of the attendees as soon as possible.
X-ALT-DESC;FMTTYPE=text/html:<p><span style="font-size:14px\;">The 118th Annual Chamber SWLA Banquet will be held Thursday\, January 13th\, 2022&nbsp\;at 6 p.m. inside the Golden Nugget Casino Resort in Lake Charles.&nbsp\; (Tickets required.&nbsp\; Please make sure all attendees bring tickets for entry)&nbsp\;<br />\n<br />\nPlease send list of attendees as soon as possible.<br />\nMenu is below\, please send dietary restrictions as soon as possible.</span><br />\n&nbsp\;</p>\n\n<h4 style="margin-right:96.75pt\;"><strong>Mediterranean Wedge Salad</strong><br />\n<em><span style="font-family:arial\,sans-serif\;"><span style="font-size:10.0pt\;">Champagne Dressing l Olive l Grape Tomato</span></span></em></h4>\n&nbsp\;<strong><em><span style="font-family:arial\,sans-serif\;"><span style="font-size:11.0pt\;">Filet of Beef</span></span></em></strong><br />\n<em><span style="font-family:arial\,sans-serif\;"><span style="font-size:11.0pt\;">Garlic Shrimp l Herb Potato Hash l Winter Vegetable </span></span></em><br />\n&nbsp\;<strong><em><span style="font-family:arial\,sans-serif\;"><span style="font-size:11.0pt\;">Flourless White Chocolate Brownie</span></span></em></strong><br />\n<em><span style="font-family:arial\,sans-serif\;"><span style="font-size:11.0pt\;">Golden Berry Pearls l Hibiscus Raspberry</span></span></em>\n\n<p><br />\n<br />\n<br />\n<br />\n<span style="font-size: 14px\;"><span style="color: rgb(255\, 0\, 0)\;">If you haven&#39\;t already\, please send in the names of the attendees&nbsp\;as soon as possible.</span></span><br />\n&nbsp\;</p>\n
LOCATION:Golden Nugget Casino Resort in Lake Charles\, Louisiana
UID:e.459.2934
SEQUENCE:3
DTSTAMP:20260424T045914Z
URL:https://events.allianceswla.org/events/details/2022-118th-chamber-swla-annual-banquet-2934
END:VEVENT

END:VCALENDAR
