BEGIN:VCALENDAR
VERSION:2.0
PRODID:-//ChamberMaster//Event Calendar 2.0//EN
METHOD:PUBLISH
X-PUBLISHED-TTL:P3D
REFRESH-INTERVAL:P3D
CALSCALE:GREGORIAN
BEGIN:VEVENT
DTSTART:20260514T223000Z
DTEND:20260515T003000Z
X-MICROSOFT-CDO-ALLDAYEVENT:FALSE
SUMMARY:2026 Business After Hours: After Hours Connections May 14
DESCRIPTION:Business After Hours Is Back!\n\n \n\nAfter Hours Connections: \n\nFeaturing Small Business of the Month\n\n \n\n \n\n \n\nJoin the Chamber SWLA for After Hours Connections at the new LNG Center of Excellence at McNeese State University on Thursday\, May 14\, from 5:30-7 pm. During the event\, we will also recognize the May Small Business of the Month\, Pasta Lab!\n\n\n\nSmall Business of the Month will be Sponsored by: Merchants and Farmers Bank
X-ALT-DESC;FMTTYPE=text/html:<p style="margin: 0px\; padding: 0px\; font-family: &quot\;Trebuchet MS&quot\;\, Verdana\, Helvetica\, sans-serif\; font-size: 14px\; background-color: rgb(255\, 255\, 255)\;"><span style="font-size:26px\;"><span data-olk-copy-source="MessageBody" style="border: 0px\; font-style: inherit\; font-variant: inherit\; font-weight: bold\; font-stretch: inherit\; line-height: inherit\; font-family: Georgia\, &quot\;Times New Roman&quot\;\, Times\, serif\; font-optical-sizing: inherit\; font-size-adjust: inherit\; font-kerning: inherit\; font-feature-settings: inherit\; font-variation-settings: inherit\; font-language-override: inherit\; margin: 0px\; padding: 0px\; vertical-align: baseline\; color: rgb(40\, 79\, 161)\;">Business After Hours Is Back!</span></span></p>\n\n<p style="margin: 0px\; padding: 0px\; font-family: &quot\;Trebuchet MS&quot\;\, Verdana\, Helvetica\, sans-serif\; font-size: 14px\; background-color: rgb(255\, 255\, 255)\;">&nbsp\;</p>\n\n<p style="margin: 0px\; padding: 0px\; font-family: &quot\;Trebuchet MS&quot\;\, Verdana\, Helvetica\, sans-serif\; font-size: 14px\; background-color: rgb(255\, 255\, 255)\;"><span style="font-size:26px\;"><span style="border: 0px\; font-style: italic\; font-variant: inherit\; font-weight: bold\; font-stretch: inherit\; line-height: inherit\; font-family: Georgia\, &quot\;Times New Roman&quot\;\, Times\, serif\; font-optical-sizing: inherit\; font-size-adjust: inherit\; font-kerning: inherit\; font-feature-settings: inherit\; font-variation-settings: inherit\; font-language-override: inherit\; margin: 0px\; padding: 0px\; vertical-align: baseline\; color: rgb(40\, 79\, 161)\;">After Hours Connections:&nbsp\;</span></span></p>\n\n<p style="margin: 0px\; padding: 0px\; font-family: &quot\;Trebuchet MS&quot\;\, Verdana\, Helvetica\, sans-serif\; font-size: 14px\; background-color: rgb(255\, 255\, 255)\;"><span style="font-size:26px\;"><span style="color: rgb(40\, 79\, 161)\; font-family: Georgia\, &quot\;Times New Roman&quot\;\, Times\, serif\; font-style: italic\; font-variant-ligatures: inherit\; font-variant-caps: inherit\; font-weight: bold\;">Featuring Small Business of the Month</span></span></p>\n\n<p style="margin: 0px\; padding: 0px\; font-family: &quot\;Trebuchet MS&quot\;\, Verdana\, Helvetica\, sans-serif\; font-size: 14px\; background-color: rgb(255\, 255\, 255)\;">&nbsp\;</p>\n\n<p style="margin: 0px\; padding: 0px\; font-family: &quot\;Trebuchet MS&quot\;\, Verdana\, Helvetica\, sans-serif\; font-size: 14px\; background-color: rgb(255\, 255\, 255)\;">&nbsp\;</p>\n\n<p style="margin: 0px\; padding: 0px\; font-family: &quot\;Trebuchet MS&quot\;\, Verdana\, Helvetica\, sans-serif\; font-size: 14px\; background-color: rgb(255\, 255\, 255)\;">&nbsp\;</p>\n\n<p style="margin: 0px\; padding: 0px\; font-family: &quot\;Trebuchet MS&quot\;\, Verdana\, Helvetica\, sans-serif\; font-size: 14px\; background-color: rgb(255\, 255\, 255)\;"><span style="font-size:26px\;"><span style="border: 0px\; font-style: inherit\; font-variant: inherit\; font-weight: inherit\; font-stretch: inherit\; line-height: inherit\; font-family: Georgia\, &quot\;Times New Roman&quot\;\, Times\, serif\; font-optical-sizing: inherit\; font-size-adjust: inherit\; font-kerning: inherit\; font-feature-settings: inherit\; font-variation-settings: inherit\; font-language-override: inherit\; margin: 0px\; padding: 0px\; vertical-align: baseline\; color: inherit\;">Join the Chamber SWLA for After Hours Connections at the new LNG Center of Excellence at McNeese State University on Thursday\, May 14\, from 5:30-7 pm. During the event\, we will also recognize the May Small Business of the Month\, <strong>Pasta Lab!</strong><br />\n<br />\nSmall Business of the Month will be Sponsored by:<strong> Merchants and Farmers Bank</strong></span></span></p>\n
LOCATION:LNG Center of Excellence 115 W. Sale Rd. Lake Charles
UID:e.459.3242
SEQUENCE:3
DTSTAMP:20260422T232249Z
URL:https://events.allianceswla.org/events/details/2026-business-after-hours-after-hours-connections-may-14-3242
END:VEVENT

END:VCALENDAR
